BEGIN:VCALENDAR
VERSION:2.0
PRODID:-//Squarespace Inc/Squarespace 6//v6//EN
BEGIN:VEVENT
UID:5add724d8a922d433d0a03e5@squarespace.com
DTSTAMP:20180423T060947Z
DTSTART:20180501T040000Z
DTEND:20180530T160000Z
SUMMARY:30 DAY MAY
END:VEVENT
END:VCALENDAR
