BEGIN:VCALENDAR
VERSION:2.0
PRODID:-//Squarespace Inc/Squarespace 6//v6//EN
BEGIN:VEVENT
UID:5b5679002b6a282123b2e4df@squarespace.com
DTSTAMP:20180724T005755Z
DTSTART:20130831T210000Z
DTEND:20130901T000000Z
SUMMARY:Sunset Spinathon
END:VEVENT
END:VCALENDAR
